BEGIN:VCALENDAR
VERSION:2.0
PRODID:-//The Up Center - ECPv6.15.18//NONSGML v1.0//EN
CALSCALE:GREGORIAN
METHOD:PUBLISH
X-WR-CALNAME:The Up Center
X-ORIGINAL-URL:https://theupcenter.org
X-WR-CALDESC:Events for The Up Center
REFRESH-INTERVAL;VALUE=DURATION:PT1H
X-Robots-Tag:noindex
X-PUBLISHED-TTL:PT1H
BEGIN:VTIMEZONE
TZID:UTC
BEGIN:STANDARD
TZOFFSETFROM:+0000
TZOFFSETTO:+0000
TZNAME:UTC
DTSTART:20250101T000000
END:STANDARD
END:VTIMEZONE
BEGIN:VEVENT
DTSTART;TZID=UTC:20260225T180000
DTEND;TZID=UTC:20260225T190000
DTSTAMP:20260421T200448
CREATED:20260220T163004Z
LAST-MODIFIED:20260220T163004Z
UID:10000135-1772042400-1772046000@theupcenter.org
SUMMARY:Dad 2 Dads: Real Talk with a Doula
DESCRIPTION:Join us for an in-depth virtual discussion on how dads can support their partners through pregnancy\, birth\, and postpartum. We will cover: \n\n\nWhat to expect \n\n\nHow to step in with confidence \n\n\nWays to be present during each stage \n\n\nContact our Doula Asyia Jackson today to sign up! asyia.jackson@theupcenter.org
URL:https://theupcenter.org/events/dad-2-dads-real-talk-with-a-doula/
CATEGORIES:Early Child Development
ATTACH;FMTTYPE=image/png:https://theupcenter.org/wp-content/uploads/2026/02/Event-Cover-Photo-7.png
ORGANIZER;CN="The Up Center":MAILTO:info@theupcenter.org
END:VEVENT
END:VCALENDAR