BEGIN:VCALENDAR
VERSION:2.0
PRODID:-//The Up Center - ECPv6.15.18//NONSGML v1.0//EN
CALSCALE:GREGORIAN
METHOD:PUBLISH
X-WR-CALNAME:The Up Center
X-ORIGINAL-URL:https://theupcenter.org
X-WR-CALDESC:Events for The Up Center
REFRESH-INTERVAL;VALUE=DURATION:PT1H
X-Robots-Tag:noindex
X-PUBLISHED-TTL:PT1H
BEGIN:VTIMEZONE
TZID:UTC
BEGIN:STANDARD
TZOFFSETFROM:+0000
TZOFFSETTO:+0000
TZNAME:UTC
DTSTART:20250101T000000
END:STANDARD
END:VTIMEZONE
BEGIN:VEVENT
DTSTART;TZID=UTC:20260415T173000
DTEND;TZID=UTC:20260415T183000
DTSTAMP:20260419T125119
CREATED:20260115T124443Z
LAST-MODIFIED:20260327T123112Z
UID:10000043-1776274200-1776277800@theupcenter.org
SUMMARY:Understanding the Importance of Credit
DESCRIPTION:Free event \nDuring this class\, we will discuss how to understand your credit report and credit score\, credit improvement strategies\, establishing credit and the benefits of using credit responsibly. \nFor more information or assistance with registering\, contact Erica.Ramjohn@theupcenter.org or (757) 965-8640 \nEvent link: https://us06web.zoom.us/webinar/register/WN_zl15_ExxTCq5i7Jfdmeb0Q#/registration
URL:https://theupcenter.org/events/understanding-the-importance-of-credit-3/
CATEGORIES:Credit & Finances,Housing & Financial Counseling
ATTACH;FMTTYPE=image/png:https://theupcenter.org/wp-content/uploads/2026/01/Understanding-the-Importance-of-Credit-3.png
ORGANIZER;CN="The Up Center":MAILTO:info@theupcenter.org
END:VEVENT
BEGIN:VEVENT
DTSTART;TZID=UTC:20260415T180000
DTEND;TZID=UTC:20260415T190000
DTSTAMP:20260419T125119
CREATED:20260220T183500Z
LAST-MODIFIED:20260220T184110Z
UID:10000137-1776276000-1776279600@theupcenter.org
SUMMARY:Comfort Measures: The Power of Release
DESCRIPTION:Relax\, release\, and prepare your body and mind for the journey ahead. \nJoin us for Comfort Measures: The Power of Release at Richard Tucker Library from 6–7 PM. This class focuses on techniques that bring peace and comfort during pregnancy and labor\, and partners or support persons are welcome to attend. \nContact our Doula Asyia Jackson today to sign up! asyia.jackson@theupcenter.org
URL:https://theupcenter.org/events/comfort-measures-the-power-of-release/2026-04-15/
CATEGORIES:Early Child Development
ATTACH;FMTTYPE=image/png:https://theupcenter.org/wp-content/uploads/2026/02/Comfort-Measures-The-Power-of-Release-3.png
ORGANIZER;CN="The Up Center":MAILTO:info@theupcenter.org
END:VEVENT
END:VCALENDAR