BEGIN:VCALENDAR
VERSION:2.0
PRODID:-//The Up Center - ECPv6.15.18//NONSGML v1.0//EN
CALSCALE:GREGORIAN
METHOD:PUBLISH
X-ORIGINAL-URL:https://theupcenter.org
X-WR-CALDESC:Events for The Up Center
REFRESH-INTERVAL;VALUE=DURATION:PT1H
X-Robots-Tag:noindex
X-PUBLISHED-TTL:PT1H
BEGIN:VTIMEZONE
TZID:UTC
BEGIN:STANDARD
TZOFFSETFROM:+0000
TZOFFSETTO:+0000
TZNAME:UTC
DTSTART:20250101T000000
END:STANDARD
END:VTIMEZONE
BEGIN:VEVENT
DTSTART;TZID=UTC:20260311T180000
DTEND;TZID=UTC:20260311T190000
DTSTAMP:20260421T191003
CREATED:20260220T152914Z
LAST-MODIFIED:20260306T162425Z
UID:10000126-1773252000-1773255600@theupcenter.org
SUMMARY:Birth Planning: Knowing Your Options
DESCRIPTION:Planning for baby? Let’s make a plan for YOU\, too. \nJoin us for a virtual Birth Planning Course designed to help you think through your birth wishes\, learn about care options\, understand your rights\, and feel more prepared for what’s ahead. We’ll also cover newborn care and the choices that matter most to you. \nContact our Doula Asyia Jackson today to sign up! asyia.jackson@theupcenter.org
URL:https://theupcenter.org/events/birth-planning-knowing-your-options/
CATEGORIES:Early Child Development
ATTACH;FMTTYPE=image/png:https://theupcenter.org/wp-content/uploads/2026/02/Event-Cover-Photo-4.png
ORGANIZER;CN="The Up Center":MAILTO:info@theupcenter.org
END:VEVENT
END:VCALENDAR