BEGIN:VCALENDAR
VERSION:2.0
PRODID:-//The Up Center - ECPv6.15.18//NONSGML v1.0//EN
CALSCALE:GREGORIAN
METHOD:PUBLISH
X-WR-CALNAME:The Up Center
X-ORIGINAL-URL:https://theupcenter.org
X-WR-CALDESC:Events for The Up Center
REFRESH-INTERVAL;VALUE=DURATION:PT1H
X-Robots-Tag:noindex
X-PUBLISHED-TTL:PT1H
BEGIN:VTIMEZONE
TZID:UTC
BEGIN:STANDARD
TZOFFSETFROM:+0000
TZOFFSETTO:+0000
TZNAME:UTC
DTSTART:20250101T000000
END:STANDARD
END:VTIMEZONE
BEGIN:VEVENT
DTSTART;TZID=UTC:20260209T180000
DTEND;TZID=UTC:20260209T190000
DTSTAMP:20260422T003120
CREATED:20251006T163151Z
LAST-MODIFIED:20260416T141918Z
UID:10000062-1770660000-1770663600@theupcenter.org
SUMMARY:Changing Lives Through Foster Care: Join Us!
DESCRIPTION:We invite you to a Virtual Information Session. You will have the opportunity to meet someone from our team\, learn about Foster Care and the important role foster parents play in supporting children and young people in need. You will also have the chance to ask any questions you have. \nEligibility: \n\nBe at least 25 years old\nHave stable income\nHave a valid driver’s license & reliable vehicle\nClear background checks\nLive in Hampton Roads\n\nUse the form below to register. Once you register\, you will receive a virtual link for your chosen session. \nPlease enable JavaScript in your browser to complete this form.Please enable JavaScript in your browser to complete this form.Name *FirstLastEmail *		\n			session registering Name\n			\n		\n		PhoneWhich session are you registering for? *Feb 23 | 6:00 = 7:00pmMar 3 | 6:00 = 7:00pmMar 5 | 6:00 = 7:00pmMar 9 | 6:00 = 7:00pmMar 12 | 6:00 = 7:00pmMar 19 | 6:00 = 7:00pmMar 23 | 6:00 = 7:00pmSubmit
URL:https://theupcenter.org/events/changing-lives-through-foster-care-join-us/2026-02-09/
LOCATION:Zoom
CATEGORIES:Foster Care
ATTACH;FMTTYPE=image/jpeg:https://theupcenter.org/wp-content/uploads/2025/10/Event-Cover-Photo-1.jpg
ORGANIZER;CN="The Up Center":MAILTO:info@theupcenter.org
END:VEVENT
BEGIN:VEVENT
DTSTART;TZID=UTC:20260209T180000
DTEND;TZID=UTC:20260209T193000
DTSTAMP:20260422T003120
CREATED:20251229T164650Z
LAST-MODIFIED:20260403T132034Z
UID:10000031-1770660000-1770665400@theupcenter.org
SUMMARY:Dad 2 Dads Group
DESCRIPTION:Parenting doesn’t come with a handbook and for many dads\, it also doesn’t come with enough space to talk honestly about stress\, emotions\, and expectations. Dad 2 Dads is a supportive class series designed to help fathers strengthen their parenting skills\, care for their own mental wellness\, and build meaningful connections with their children. \nEach session focuses on real-life challenges dads face today\, offering practical tools\, guided discussion\, and a judgment-free environment where growth is encouraged.
URL:https://theupcenter.org/events/dad-2-dads-group/2026-02-09/
CATEGORIES:Early Child Development
ATTACH;FMTTYPE=image/png:https://theupcenter.org/wp-content/uploads/2025/12/Dad-2-Dads-Group.png
END:VEVENT
BEGIN:VEVENT
DTSTART;TZID=UTC:20260212T180000
DTEND;TZID=UTC:20260212T190000
DTSTAMP:20260422T003120
CREATED:20251006T163151Z
LAST-MODIFIED:20260416T141918Z
UID:10000063-1770919200-1770922800@theupcenter.org
SUMMARY:Changing Lives Through Foster Care: Join Us!
DESCRIPTION:We invite you to a Virtual Information Session. You will have the opportunity to meet someone from our team\, learn about Foster Care and the important role foster parents play in supporting children and young people in need. You will also have the chance to ask any questions you have. \nEligibility: \n\nBe at least 25 years old\nHave stable income\nHave a valid driver’s license & reliable vehicle\nClear background checks\nLive in Hampton Roads\n\nUse the form below to register. Once you register\, you will receive a virtual link for your chosen session. \nPlease enable JavaScript in your browser to complete this form.Please enable JavaScript in your browser to complete this form.Name *FirstLastEmail *		\n			Name Email Phone\n			\n		\n		PhoneWhich session are you registering for? *Feb 23 | 6:00 = 7:00pmMar 3 | 6:00 = 7:00pmMar 5 | 6:00 = 7:00pmMar 9 | 6:00 = 7:00pmMar 12 | 6:00 = 7:00pmMar 19 | 6:00 = 7:00pmMar 23 | 6:00 = 7:00pmSubmit
URL:https://theupcenter.org/events/changing-lives-through-foster-care-join-us/2026-02-12/
LOCATION:Zoom
CATEGORIES:Foster Care
ATTACH;FMTTYPE=image/jpeg:https://theupcenter.org/wp-content/uploads/2025/10/Event-Cover-Photo-1.jpg
ORGANIZER;CN="The Up Center":MAILTO:info@theupcenter.org
END:VEVENT
END:VCALENDAR