BEGIN:VCALENDAR
VERSION:2.0
PRODID:-//The Up Center - ECPv6.15.18//NONSGML v1.0//EN
CALSCALE:GREGORIAN
METHOD:PUBLISH
X-ORIGINAL-URL:https://theupcenter.org
X-WR-CALDESC:Events for The Up Center
REFRESH-INTERVAL;VALUE=DURATION:PT1H
X-Robots-Tag:noindex
X-PUBLISHED-TTL:PT1H
BEGIN:VTIMEZONE
TZID:UTC
BEGIN:STANDARD
TZOFFSETFROM:+0000
TZOFFSETTO:+0000
TZNAME:UTC
DTSTART:20250101T000000
END:STANDARD
END:VTIMEZONE
BEGIN:VEVENT
DTSTART;TZID=UTC:20260323T180000
DTEND;TZID=UTC:20260323T190000
DTSTAMP:20260421T231656
CREATED:20251006T163151Z
LAST-MODIFIED:20260416T141918Z
UID:10000132-1774288800-1774292400@theupcenter.org
SUMMARY:Changing Lives Through Foster Care: Join Us!
DESCRIPTION:We invite you to a Virtual Information Session. You will have the opportunity to meet someone from our team\, learn about Foster Care and the important role foster parents play in supporting children and young people in need. You will also have the chance to ask any questions you have. \nEligibility: \n\nBe at least 25 years old\nHave stable income\nHave a valid driver’s license & reliable vehicle\nClear background checks\nLive in Hampton Roads\n\nUse the form below to register. Once you register\, you will receive a virtual link for your chosen session. \nPlease enable JavaScript in your browser to complete this form.Please enable JavaScript in your browser to complete this form.Name *FirstLastEmail *		\n			registering Which you\n			\n		\n		PhoneWhich session are you registering for? *Feb 23 | 6:00 = 7:00pmMar 3 | 6:00 = 7:00pmMar 5 | 6:00 = 7:00pmMar 9 | 6:00 = 7:00pmMar 12 | 6:00 = 7:00pmMar 19 | 6:00 = 7:00pmMar 23 | 6:00 = 7:00pmSubmit
URL:https://theupcenter.org/events/changing-lives-through-foster-care-join-us/2026-03-23/
LOCATION:Zoom
CATEGORIES:Foster Care
ATTACH;FMTTYPE=image/jpeg:https://theupcenter.org/wp-content/uploads/2025/10/Event-Cover-Photo-1.jpg
ORGANIZER;CN="The Up Center":MAILTO:info@theupcenter.org
END:VEVENT
BEGIN:VEVENT
DTSTART;TZID=UTC:20260323T180000
DTEND;TZID=UTC:20260323T193000
DTSTAMP:20260421T231656
CREATED:20251229T164650Z
LAST-MODIFIED:20260403T132034Z
UID:10000034-1774288800-1774294200@theupcenter.org
SUMMARY:Dad 2 Dads Group
DESCRIPTION:Parenting doesn’t come with a handbook and for many dads\, it also doesn’t come with enough space to talk honestly about stress\, emotions\, and expectations. Dad 2 Dads is a supportive class series designed to help fathers strengthen their parenting skills\, care for their own mental wellness\, and build meaningful connections with their children. \nEach session focuses on real-life challenges dads face today\, offering practical tools\, guided discussion\, and a judgment-free environment where growth is encouraged.
URL:https://theupcenter.org/events/dad-2-dads-group/2026-03-23/
CATEGORIES:Early Child Development
ATTACH;FMTTYPE=image/png:https://theupcenter.org/wp-content/uploads/2025/12/Dad-2-Dads-Group.png
END:VEVENT
BEGIN:VEVENT
DTSTART;TZID=UTC:20260324T200000
DTEND;TZID=UTC:20260324T210000
DTSTAMP:20260421T231656
CREATED:20260210T182439Z
LAST-MODIFIED:20260210T183023Z
UID:10000067-1774382400-1774386000@theupcenter.org
SUMMARY:Free REVIVE! Training (Virtual)
DESCRIPTION:Join us for a FREE REVIVE! training designed to equip community members with life-saving skills in the event of an opioid overdose.\n\n\n\nREVIVE! is Virginia’s statewide Opioid Overdose and Naloxone Education (OONE) program\, designed to train individuals in recognizing and responding to opioid overdose emergencies with naloxone\, a life-saving medication. \nWhat you’ll learn:  \n\nHow to recognize the signs of an opioid overdose\nHow to respond safely and effectively\nHow to administer Naloxone (Narcan)\nA medication that can reverse an opioid overdose\nWhat to expect after administering Naloxone\nLegal protections (Good Samaritan Laws)\n\nWho should attend: \n\nFamily or friends of people using opioids\nPeople who work with the public (barbers\, librarians\, security\, etc.)\nTeachers\, coaches\, faith leaders\nHealthcare workers\, social workers\, peer recovery coaches\nAnyone who wants to be ready to help\n\nWhy it matters: Opioid overdose can happen to anyone — and you can be the one who makes the difference. Whether you’re concerned for someone you know or just want to be prepared\, this training empowers you with tools to act confidently and compassionately. \n  \n\nREGISTER HERE
URL:https://theupcenter.org/events/free-revive-training-virtual/2026-03-24/
LOCATION:Zoom
CATEGORIES:The Up Center Events
ATTACH;FMTTYPE=image/png:https://theupcenter.org/wp-content/uploads/2026/02/REVIVE-training-2.png
ORGANIZER;CN="The Up Center":MAILTO:info@theupcenter.org
END:VEVENT
END:VCALENDAR